BEGIN:VCALENDAR
VERSION:2.0
PRODID:-//K Primary Care &amp; Medical Nutrition Center - ECPv5.0.2.1//NONSGML v1.0//EN
CALSCALE:GREGORIAN
METHOD:PUBLISH
X-WR-CALNAME:K Primary Care &amp; Medical Nutrition Center
X-ORIGINAL-URL:https://www.kprimarycare.com
X-WR-CALDESC:Events for K Primary Care &amp; Medical Nutrition Center
BEGIN:VTIMEZONE
TZID:UTC
BEGIN:STANDARD
TZOFFSETFROM:+0000
TZOFFSETTO:+0000
TZNAME:UTC
DTSTART:20170101T000000
END:STANDARD
END:VTIMEZONE
BEGIN:VEVENT
DTSTART;TZID=UTC:20171010T183000
DTEND;TZID=UTC:20171010T193000
DTSTAMP:20260425T110925
CREATED:20170828T010737Z
LAST-MODIFIED:20170828T010737Z
UID:1416-1507660200-1507663800@www.kprimarycare.com
SUMMARY:Mindfulness Meditation
DESCRIPTION: \nAll are welcome to join in our weekly meditation practice led by Erin Sheehan. Mindfulness meditation can be a safe\, natural and effective tool in helping to decrease stress\, increase immunity and overall mental and physical well-being. \nErin takes the time each week to introduce mindfulness meditation to the group and leads a practice. There is no previous experience necessary and participants are encouraged to bring a friend and join as often as possible. Different guided meditations are offered as well as direction to help individuals establish a personal practice at home. \nCost = $10 / class or $30 / month \n
URL:https://www.kprimarycare.com/event/mindfulness-meditation-2-2017-10-10/
END:VEVENT
END:VCALENDAR